BEGIN:VCALENDAR
VERSION:2.0
PRODID:-//BC Frutigen - ECPv5.4.0.1//NONSGML v1.0//EN
CALSCALE:GREGORIAN
METHOD:PUBLISH
X-WR-CALNAME:BC Frutigen
X-ORIGINAL-URL:http://bcfrutigen.ch
X-WR-CALDESC:Veranstaltungen für BC Frutigen
BEGIN:VTIMEZONE
TZID:UTC
BEGIN:STANDARD
TZOFFSETFROM:+0000
TZOFFSETTO:+0000
TZNAME:UTC
DTSTART:20260101T000000
END:STANDARD
END:VTIMEZONE
BEGIN:VEVENT
DTSTART;VALUE=DATE:20260425
DTEND;VALUE=DATE:20260426
DTSTAMP:20260421T155104
CREATED:20260303T072751Z
LAST-MODIFIED:20260303T072751Z
UID:1248-1777075200-1777161599@bcfrutigen.ch
SUMMARY:Season Kick-Off Day
DESCRIPTION:
URL:http://bcfrutigen.ch/?tribe_events=season-kick-off-day-2
CATEGORIES:BC Frutigen Events
END:VEVENT
BEGIN:VEVENT
DTSTART;TZID=UTC:20260429T183000
DTEND;TZID=UTC:20260429T200000
DTSTAMP:20260421T155104
CREATED:20260303T072836Z
LAST-MODIFIED:20260303T072836Z
UID:1250-1777487400-1777492800@bcfrutigen.ch
SUMMARY:Clubabend
DESCRIPTION:18:30-19:00 Training Juniorinnen\n19:00-20:00 Clubabend / Training aktive mit Juniorinnen
URL:http://bcfrutigen.ch/?tribe_events=clubabend-58
CATEGORIES:BC Frutigen Trainings
END:VEVENT
BEGIN:VEVENT
DTSTART;VALUE=DATE:20260502
DTEND;VALUE=DATE:20260503
DTSTAMP:20260421T155104
CREATED:20260303T074816Z
LAST-MODIFIED:20260303T074816Z
UID:1298-1777680000-1777766399@bcfrutigen.ch
SUMMARY:Turnier Beachtour
DESCRIPTION:Ab 9:00 U20 Damen \nAb 14:00 U20 Herren
URL:http://bcfrutigen.ch/?tribe_events=turnier-beachtour-12
END:VEVENT
END:VCALENDAR