BEGIN:VCALENDAR
VERSION:2.0
PRODID:-//BC Frutigen - ECPv5.4.0.1//NONSGML v1.0//EN
CALSCALE:GREGORIAN
METHOD:PUBLISH
X-WR-CALNAME:BC Frutigen
X-ORIGINAL-URL:https://bcfrutigen.ch
X-WR-CALDESC:Veranstaltungen für BC Frutigen
BEGIN:VTIMEZONE
TZID:UTC
BEGIN:STANDARD
TZOFFSETFROM:+0000
TZOFFSETTO:+0000
TZNAME:UTC
DTSTART:20250101T000000
END:STANDARD
END:VTIMEZONE
BEGIN:VEVENT
DTSTART;VALUE=DATE:20250709
DTEND;VALUE=DATE:20250710
DTSTAMP:20260422T164623
CREATED:20250318T061707Z
LAST-MODIFIED:20250318T061707Z
UID:1109-1752019200-1752105599@bcfrutigen.ch
SUMMARY:Clubabend
DESCRIPTION:18:30-19:00 Training Juniorinnen\n19:00-20:00 Clubabend / Training aktive mit Juniorinnen
URL:https://bcfrutigen.ch/?tribe_events=clubabend-46
CATEGORIES:BC Frutigen Events
END:VEVENT
END:VCALENDAR