BEGIN:VCALENDAR
VERSION:2.0
PRODID:-//BC Frutigen - ECPv5.4.0.1//NONSGML v1.0//EN
CALSCALE:GREGORIAN
METHOD:PUBLISH
X-WR-CALNAME:BC Frutigen
X-ORIGINAL-URL:https://bcfrutigen.ch
X-WR-CALDESC:Veranstaltungen für BC Frutigen
BEGIN:VTIMEZONE
TZID:UTC
BEGIN:STANDARD
TZOFFSETFROM:+0000
TZOFFSETTO:+0000
TZNAME:UTC
DTSTART:20250101T000000
END:STANDARD
END:VTIMEZONE
BEGIN:VEVENT
DTSTART;VALUE=DATE:20250813
DTEND;VALUE=DATE:20250814
DTSTAMP:20260423T050655
CREATED:20250318T061910Z
LAST-MODIFIED:20250318T061910Z
UID:1119-1755043200-1755129599@bcfrutigen.ch
SUMMARY:Clubabend
DESCRIPTION:18:30-19:00 Training Juniorinnen\n19:00-20:00 Clubabend / Training aktive mit Juniorinnen
URL:https://bcfrutigen.ch/?tribe_events=clubabend-51
CATEGORIES:BC Frutigen Events
END:VEVENT
END:VCALENDAR