BEGIN:VCALENDAR
VERSION:2.0
PRODID:-//BC Frutigen - ECPv5.4.0.1//NONSGML v1.0//EN
CALSCALE:GREGORIAN
METHOD:PUBLISH
X-WR-CALNAME:BC Frutigen
X-ORIGINAL-URL:https://bcfrutigen.ch
X-WR-CALDESC:Veranstaltungen für BC Frutigen
BEGIN:VTIMEZONE
TZID:UTC
BEGIN:STANDARD
TZOFFSETFROM:+0000
TZOFFSETTO:+0000
TZNAME:UTC
DTSTART:20250101T000000
END:STANDARD
END:VTIMEZONE
BEGIN:VEVENT
DTSTART;VALUE=DATE:20250814
DTEND;VALUE=DATE:20250815
DTSTAMP:20260423T064303
CREATED:20250814T065003Z
LAST-MODIFIED:20250814T065003Z
UID:1208-1755129600-1755215999@bcfrutigen.ch
SUMMARY:Reservation 19:30-20:30 (2 Felder)
DESCRIPTION:Von 19:30-20:30 sind 2 Felder reserviert.
URL:https://bcfrutigen.ch/?tribe_events=reservation-1930-2030-2-felder
END:VEVENT
END:VCALENDAR